BEGIN:VCALENDAR
VERSION:2.0
PRODID:SchoolNow
CALSCALE:GREGORIAN
BEGIN:VEVENT
UID:6e3527ec-e91a-11ed-82c9-0e4a5626a4d9
DTSTAMP:20230515T181443Z
SUMMARY:Stress Less for Finals Week
LOCATION:Mental Health and Wellness Center
URL;VALUE=URI:https://www.frc.edu/studentlife/calendar/4169319/stress-less-
 for-finals-week
DTSTART:20230515T153000Z
DTEND:20230526T233000Z
END:VEVENT
END:VCALENDAR
