BEGIN:VCALENDAR
VERSION:2.0
PRODID:SchoolNow
CALSCALE:GREGORIAN
BEGIN:VEVENT
UID:b0f53348-e874-11ed-9cb6-0e4bcd51740f
DTSTAMP:20230515T192239Z
SUMMARY:Student Research Symposium
LOCATION:FRC Green
URL;VALUE=URI:https://www.frc.edu/studentlife/calendar/4165594/student-rese
 arch-symposium
DTSTART:20230515T193000Z
DTEND:20230516T000000Z
ATTACH;FILENAME=Spring Symposium2023_Final.pdf;FMTTYPE=application/pdf:http
 s://campussuite-storage.s3.amazonaws.com/prod/1558523/0672826e-a84b-11e7-9
 779-0ae3e1d9783c/2592526/776e089e-f106-11ed-9c87-0e6adac0760f/file/Spring 
 Symposium2023_Final.pdf
END:VEVENT
END:VCALENDAR
