BEGIN:VCALENDAR
VERSION:2.0
PRODID:SchoolNow
CALSCALE:GREGORIAN
BEGIN:VEVENT
UID:435a3b8c-dd69-11ed-a4de-02a7144e72cf
DTSTAMP:20230421T165045Z
SUMMARY:Cultural Fair Poster Making Party
LOCATION:Student Lounge
URL;VALUE=URI:https://www.frc.edu/studentlife/calendar/4072281/cultural-fai
 r-poster-making
DTSTART:20230502T000000Z
DTEND:20230502T020000Z
END:VEVENT
END:VCALENDAR
