BEGIN:VCALENDAR
VERSION:2.0
PRODID:SchoolNow
CALSCALE:GREGORIAN
BEGIN:VEVENT
UID:51fd66ce-da48-11ed-bdbb-0e0e69dc7ac9
DTSTAMP:20230413T222447Z
SUMMARY:Days in the Mountains (DITM) - Day #1
LOCATION:FRC Campus
URL;VALUE=URI:https://www.frc.edu/studentlife/calendar/4043996/day-in-the-m
 ountains
DTSTART;VALUE=DATE:20230421
DTEND;VALUE=DATE:20230422
END:VEVENT
END:VCALENDAR
