BEGIN:VCALENDAR
VERSION:2.0
PRODID:SchoolNow
CALSCALE:GREGORIAN
BEGIN:VEVENT
UID:8f6ce942-da22-11ed-9de3-02e2aaf95a39
DTSTAMP:20230413T174537Z
SUMMARY:Erica Alfaro - Guest Speaker
LOCATION:Gallery Classroom
URL;VALUE=URI:https://www.frc.edu/studentlife/calendar/4042157/erica-alfaro
 -guest-speaker
DTSTART:20230425T170000Z
DTEND:20230425T180000Z
END:VEVENT
END:VCALENDAR
