BEGIN:VCALENDAR
VERSION:2.0
PRODID:SchoolNow
CALSCALE:GREGORIAN
BEGIN:VEVENT
UID:2fd66f18-d30a-11ed-b6fb-0e8faff90977
DTSTAMP:20230404T170022Z
SUMMARY:Wild West Murder Mystery Dinner Theater
URL;VALUE=URI:https://www.frc.edu/studentlife/calendar/3982304/wild-west-mu
 rder-mystery-dinner-theater
DTSTART:20230430T010000Z
DTEND:20230430T040000Z
ATTACH;FILENAME=murdermysteryposter (3).jpg;FMTTYPE=image/jpeg:https://camp
 ussuite-storage.s3.amazonaws.com/prod/1558523/0672826e-a84b-11e7-9779-0ae3
 e1d9783c/2576223/ea81bfc6-d309-11ed-8156-0e8faff90977/file/murdermysterypo
 ster (3).jpg
END:VEVENT
END:VCALENDAR
