BEGIN:VCALENDAR
VERSION:2.0
PRODID:SchoolNow
CALSCALE:GREGORIAN
BEGIN:VEVENT
UID:b110376c-cff4-11ed-a0ef-0ef0ab78c9af
DTSTAMP:20230331T184856Z
SUMMARY:Free Breakfast Thursday's
URL;VALUE=URI:https://www.frc.edu/studentlife/calendar/3955255/free-breakfa
 st-thurdays
DTSTART:20230406T150000Z
DTEND:20230518T180000Z
END:VEVENT
END:VCALENDAR
