BEGIN:VCALENDAR
VERSION:2.0
PRODID:SchoolNow
CALSCALE:GREGORIAN
BEGIN:VEVENT
UID:8e3a380e-cff0-11ed-8d12-028cdfb33a0d
DTSTAMP:20230407T175236Z
SUMMARY:Day in the Mountains (DITM) #2
LOCATION:FRC Campus
URL;VALUE=URI:https://www.frc.edu/studentlife/calendar/3955252/ditm-2
DTSTART:20230428T180000Z
DTEND:20230428T230000Z
END:VEVENT
END:VCALENDAR
