BEGIN:VCALENDAR
VERSION:2.0
PRODID:SchoolNow
CALSCALE:GREGORIAN
BEGIN:VEVENT
UID:60936fec-cff0-11ed-8c42-028cdfb33a0d
DTSTAMP:20230417T181342Z
SUMMARY:Spring Sports BBQ
LOCATION:Baseball field
URL;VALUE=URI:https://www.frc.edu/studentlife/calendar/3955251/ditm-spring-
 sport-bbq
DTSTART:20230421T190000Z
DTEND:20230421T200000Z
END:VEVENT
END:VCALENDAR
