BEGIN:VCALENDAR
VERSION:2.0
PRODID:SchoolNow
CALSCALE:GREGORIAN
BEGIN:VEVENT
UID:d84fc166-cfeb-11ed-82a4-0aad70994f03
DTSTAMP:20230331T174537Z
SUMMARY:Student Leadership Applications OPEN!!!!!
URL;VALUE=URI:https://www.frc.edu/studentlife/calendar/3955246/student-lead
 ership-applications-open
DTSTART:20230402T170000Z
DTEND:20230419T000000Z
ATTACH;FILENAME=Ambassador & ASFRC Flyer_SP23_FINAL.pdf;FMTTYPE=application
 /pdf:https://campussuite-storage.s3.amazonaws.com/prod/1558523/0672826e-a8
 4b-11e7-9779-0ae3e1d9783c/2575043/909918d6-cfeb-11ed-a8c4-0aad70994f03/fil
 e/Ambassador & ASFRC Flyer_SP23_FINAL.pdf
END:VEVENT
END:VCALENDAR
