BEGIN:VCALENDAR
VERSION:2.0
PRODID:SchoolNow
CALSCALE:GREGORIAN
BEGIN:VEVENT
UID:e4edcdec-cfea-11ed-a4df-0aad70994f03
DTSTAMP:20230331T180856Z
SUMMARY:Student Leadership Tabling
URL;VALUE=URI:https://www.frc.edu/studentlife/calendar/3955244/student-lead
 ership-tabling
DTSTART:20230404T180000Z
DTEND:20230405T200000Z
ATTACH;FILENAME=Ambassador & ASFRC Flyer_SP23_FINAL.pdf;FMTTYPE=application
 /pdf:https://campussuite-storage.s3.amazonaws.com/prod/1558523/0672826e-a8
 4b-11e7-9779-0ae3e1d9783c/2575043/909918d6-cfeb-11ed-a8c4-0aad70994f03/fil
 e/Ambassador & ASFRC Flyer_SP23_FINAL.pdf
END:VEVENT
END:VCALENDAR
