BEGIN:VCALENDAR
VERSION:2.0
PRODID:SchoolNow
CALSCALE:GREGORIAN
BEGIN:VEVENT
UID:7f15157e-c429-11ed-ba78-0e058df79883
DTSTAMP:20230316T230928Z
SUMMARY:Community Event (Roller Disco)
URL;VALUE=URI:https://www.frc.edu/studentlife/calendar/3877451/community-ev
 ent-roller-disco
DTSTART:20230401T030000Z
DTEND:20230401T050000Z
ATTACH;FILENAME=roller disco.png;FMTTYPE=image/png:https://campussuite-stor
 age.s3.amazonaws.com/prod/1558523/0672826e-a84b-11e7-9779-0ae3e1d9783c/256
 7905/716bdc3c-c429-11ed-9212-0e058df79883/file/roller disco.png
END:VEVENT
END:VCALENDAR
