BEGIN:VCALENDAR
VERSION:2.0
PRODID:SchoolNow
CALSCALE:GREGORIAN
BEGIN:VEVENT
UID:787f5bc6-c428-11ed-86bc-0ecf4a42fa77
DTSTAMP:20230320T213837Z
SUMMARY:Critical Leadership to Cultivate an Inclusive Campus (For FRC Stude
 nts)
URL;VALUE=URI:https://www.frc.edu/studentlife/calendar/3877450/critical-lea
 dership-to-cultivate-an-inclusive-campus-for-frc-students
DTSTART:20230322T183000Z
DTEND:20230322T200000Z
ATTACH;FILENAME=Critical Leadership_Students_FINAL.pdf;FMTTYPE=application/
 pdf:https://campussuite-storage.s3.amazonaws.com/prod/1558523/0672826e-a84
 b-11e7-9779-0ae3e1d9783c/2568272/edd2ceb6-c4dd-11ed-850a-0e0129b851c7/file
 /Critical Leadership_Students_FINAL.pdf
END:VEVENT
END:VCALENDAR
