BEGIN:VCALENDAR
VERSION:2.0
PRODID:SchoolNow
CALSCALE:GREGORIAN
BEGIN:VEVENT
UID:b063a374-bead-11ed-8c83-0a1e8c4d52ab
DTSTAMP:20230424T163419Z
SUMMARY:Low Motivation and Procrastination Workshop
LOCATION:Mental Health and Wellness Center
URL;VALUE=URI:https://www.frc.edu/studentlife/calendar/3841169/low-motivati
 on-and-procrastination-workshop
DTSTART:20230424T190000Z
DTEND:20230424T200000Z
ATTACH;FILENAME=Low Motivation .png;FMTTYPE=image/png:https://campussuite-s
 torage.s3.amazonaws.com/prod/1558523/0672826e-a84b-11e7-9779-0ae3e1d9783c/
 2577967/9ae94e60-d567-11ed-9d5c-0af517cde9bd/file/Low Motivation .png
END:VEVENT
END:VCALENDAR
