BEGIN:VCALENDAR
VERSION:2.0
PRODID:SchoolNow
CALSCALE:GREGORIAN
BEGIN:VEVENT
UID:ef65957e-be0c-11ed-a995-0ac87333344f
DTSTAMP:20230308T235708Z
SUMMARY:3-on-3 Basketball Tournament
LOCATION:Gymnasium
URL;VALUE=URI:https://www.frc.edu/studentlife/calendar/3837548/3-on-3-baske
 tball-tournament
DTSTART:20230316T010000Z
DTEND:20230316T030000Z
END:VEVENT
END:VCALENDAR
