BEGIN:VCALENDAR
VERSION:2.0
PRODID:SchoolNow
CALSCALE:GREGORIAN
BEGIN:VEVENT
UID:1465c05e-3de5-11ed-8ae0-0ee95dcafca5
DTSTAMP:20240205T200934Z
SUMMARY:TRiO SSS - Student Orientation (Two Session Options)
LOCATION:TRiO Lab (Student Services Building)
URL;VALUE=URI:https://www.frc.edu/studentlife/calendar/3447550/student-orie
 ntation-clone
DTSTART:20240227T200000Z
DTEND:20240227T210000Z
END:VEVENT
END:VCALENDAR
