BEGIN:VCALENDAR
VERSION:2.0
PRODID:SchoolNow
CALSCALE:GREGORIAN
BEGIN:VEVENT
UID:b8f024f6-c5aa-11ec-b946-0aa412441315
DTSTAMP:20220426T214917Z
SUMMARY:Closing Art Reception w/BBQ
LOCATION:The FRC Art/ORL building.
URL;VALUE=URI:https://www.frc.edu/studentlife/calendar/3182133/closing-art-
 reception-w-bbq
DTSTART:20220430T000000Z
DTEND:20220430T020000Z
ATTACH;FILENAME=BrittGreg_April29_2022_Flier1.jpg;FMTTYPE=image/jpeg:https:
 //campussuite-storage.s3.amazonaws.com/prod/1558523/0672826e-a84b-11e7-977
 9-0ae3e1d9783c/2406854/92ed5b84-c57d-11ec-9ff5-0a3dd69c38db/file/BrittGreg
 _April29_2022_Flier1.jpg
END:VEVENT
END:VCALENDAR
