BEGIN:VCALENDAR
VERSION:2.0
PRODID:SchoolNow
CALSCALE:GREGORIAN
BEGIN:VEVENT
UID:f801ab92-bab5-11ec-80d9-025db0222f47
DTSTAMP:20220412T231205Z
SUMMARY:CalFresh Scavenger Hunt 2.0
LOCATION:Health & Wellness Center
URL;VALUE=URI:https://www.frc.edu/studentlife/calendar/3169544/calfresh-chi
 cken-broccoli-alfredo-scavenger-hunt
DTSTART;VALUE=DATE:20220419
DTEND;VALUE=DATE:20220421
END:VEVENT
END:VCALENDAR
