BEGIN:VCALENDAR
VERSION:2.0
PRODID:SchoolNow
CALSCALE:GREGORIAN
BEGIN:VEVENT
UID:65766df4-b442-11ec-90f1-022609fd089b
DTSTAMP:20220404T180940Z
SUMMARY:Feather River College ASFRC Meeting
LOCATION:Student Lounge
URL;VALUE=URI:https://www.frc.edu/studentlife/calendar/3152813/feather-rive
 r-college-asfrc-meeting
DTSTART:20220405T230000Z
DTEND:20220406T000000Z
ATTACH;FILENAME=ASFRC Agenda 04.05.22.docx;FMTTYPE=application/vnd.openxmlf
 ormats-officedocument.wordprocessingml.document:https://campussuite-storag
 e.s3.amazonaws.com/prod/1558523/0672826e-a84b-11e7-9779-0ae3e1d9783c/23979
 72/1c06db2c-b442-11ec-bc6a-022609fd089b/file/ASFRC Agenda 04.05.22.docx
END:VEVENT
END:VCALENDAR
