BEGIN:VCALENDAR
VERSION:2.0
PRODID:SchoolNow
CALSCALE:GREGORIAN
BEGIN:VEVENT
UID:416bca9e-b177-11ec-b16d-0e357f9fbf79
DTSTAMP:20220401T045029Z
SUMMARY:Free Breakfast
LOCATION:Eagle's Perch Cafe
URL;VALUE=URI:https://www.frc.edu/studentlife/calendar/3149405/free-breakfa
 st-clone-clone-clone-clone-clone-clone-clone-clone
DTSTART:20220426T153000Z
DTEND:20220426T173000Z
END:VEVENT
END:VCALENDAR
