BEGIN:VCALENDAR
VERSION:2.0
PRODID:SchoolNow
CALSCALE:GREGORIAN
BEGIN:VEVENT
UID:39f822a8-b177-11ec-b0ac-0e357f9fbf79
DTSTAMP:20220401T045017Z
SUMMARY:Free Breakfast
LOCATION:Eagle's Perch Cafe
URL;VALUE=URI:https://www.frc.edu/studentlife/calendar/3149404/free-breakfa
 st-clone-clone-clone-clone-clone-clone-clone
DTSTART:20220419T153000Z
DTEND:20220419T173000Z
END:VEVENT
END:VCALENDAR
