BEGIN:VCALENDAR
VERSION:2.0
PRODID:SchoolNow
CALSCALE:GREGORIAN
BEGIN:VEVENT
UID:33c576d8-b177-11ec-8756-0e357f9fbf79
DTSTAMP:20220401T045006Z
SUMMARY:Free Breakfast
LOCATION:Eagle's Perch Cafe
URL;VALUE=URI:https://www.frc.edu/studentlife/calendar/3149403/free-breakfa
 st-clone-clone-clone-clone-clone-clone
DTSTART:20220405T153000Z
DTEND:20220405T173000Z
END:VEVENT
END:VCALENDAR
