BEGIN:VCALENDAR
VERSION:2.0
PRODID:SchoolNow
CALSCALE:GREGORIAN
BEGIN:VEVENT
UID:9c31abd4-b121-11ec-9cb4-0aa27acb57c9
DTSTAMP:20220405T033901Z
SUMMARY:Student Government Voting / Student ambassador Interviews
URL;VALUE=URI:https://www.frc.edu/studentlife/calendar/3149022/student-gove
 rnment-voting-student-ambassador-interviews
DTSTART:20220418T160000Z
DTEND:20220419T230000Z
END:VEVENT
END:VCALENDAR
