BEGIN:VCALENDAR
VERSION:2.0
PRODID:SchoolNow
CALSCALE:GREGORIAN
BEGIN:VEVENT
UID:cf051e84-b120-11ec-8af6-0e7417246821
DTSTAMP:20220405T033339Z
SUMMARY:Spring Break at the Dorms
LOCATION:Dorms
URL;VALUE=URI:https://www.frc.edu/studentlife/calendar/3149020/spring-break
 -at-the-dorms
DTSTART:20220407T230000Z
DTEND:20220408T010000Z
ATTACH;FILENAME=Spring Break.pdf;FMTTYPE=application/pdf:https://campussuit
 e-storage.s3.amazonaws.com/prod/1558523/0672826e-a84b-11e7-9779-0ae3e1d978
 3c/2398131/0ad113be-b491-11ec-ae31-0ebd23335079/file/Spring Break.pdf
END:VEVENT
END:VCALENDAR
