BEGIN:VCALENDAR
VERSION:2.0
PRODID:SchoolNow
CALSCALE:GREGORIAN
BEGIN:VEVENT
UID:05a3dfee-a491-11ec-bf86-02f22adf8aed
DTSTAMP:20220323T164356Z
SUMMARY:Women in STEM: Celebrating Female Leaders
LOCATION:Library
URL;VALUE=URI:https://www.frc.edu/studentlife/calendar/3133827/women-in-ste
 m-celebrating-female-leaders
DTSTART:20220324T003000Z
DTEND:20220324T020000Z
ATTACH;FILENAME=WHM Women in Stem Flyer_FINAL.pdf;FMTTYPE=application/pdf:h
 ttps://campussuite-storage.s3.amazonaws.com/prod/1558523/0672826e-a84b-11e
 7-9779-0ae3e1d9783c/2388355/0f6f58ba-a4ae-11ec-a825-028a2127916d/file/WHM 
 Women in Stem Flyer_FINAL.pdf
END:VEVENT
END:VCALENDAR
