BEGIN:VCALENDAR
VERSION:2.0
PRODID:SchoolNow
CALSCALE:GREGORIAN
BEGIN:VEVENT
UID:82163360-a47d-11ec-8757-0ac11a0d4327
DTSTAMP:20220320T160001Z
SUMMARY:Student Leadership Positions
URL;VALUE=URI:https://www.frc.edu/studentlife/calendar/3133748/student-lead
 ership-positions
DTSTART:20220316T150000Z
DTEND:20220408T190000Z
ATTACH;FILENAME=ASFRC Flyer 22-23.pdf;FMTTYPE=application/pdf:https://campu
 ssuite-storage.s3.amazonaws.com/prod/1558523/0672826e-a84b-11e7-9779-0ae3e
 1d9783c/2388116/33376dc2-a47d-11ec-93f4-0ac11a0d4327/file/ASFRC Flyer 22-2
 3.pdf
ATTACH;FILENAME=Student Ambassador Program FLYER.pdf;FMTTYPE=application/pd
 f:https://campussuite-storage.s3.amazonaws.com/prod/1558523/0672826e-a84b-
 11e7-9779-0ae3e1d9783c/2388117/41965522-a47d-11ec-954f-0ac11a0d4327/file/S
 tudent Ambassador Program FLYER.pdf
END:VEVENT
END:VCALENDAR
