BEGIN:VCALENDAR
VERSION:2.0
PRODID:SchoolNow
CALSCALE:GREGORIAN
BEGIN:VEVENT
UID:2aca5fe0-a195-11ec-b5ac-0a6c8d6a45b5
DTSTAMP:20220311T234418Z
SUMMARY:Free Breakfast
LOCATION:Eagle's Perch Cafe
URL;VALUE=URI:https://www.frc.edu/studentlife/calendar/3131353/free-breakfa
 st-clone-clone-clone-clone-clone
DTSTART:20220329T153000Z
DTEND:20220329T173000Z
END:VEVENT
END:VCALENDAR
