BEGIN:VCALENDAR
VERSION:2.0
PRODID:SchoolNow
CALSCALE:GREGORIAN
BEGIN:VEVENT
UID:1fb2fc70-a195-11ec-98e1-0a6c8d6a45b5
DTSTAMP:20220311T234359Z
SUMMARY:Free Breakfast
LOCATION:Eagle's Perch Cafe
URL;VALUE=URI:https://www.frc.edu/studentlife/calendar/3131352/free-breakfa
 st-clone-clone-clone-clone
DTSTART:20220323T153000Z
DTEND:20220323T173000Z
END:VEVENT
END:VCALENDAR
