BEGIN:VCALENDAR
VERSION:2.0
PRODID:SchoolNow
CALSCALE:GREGORIAN
BEGIN:VEVENT
UID:1987f116-a195-11ec-a267-0a6c8d6a45b5
DTSTAMP:20220311T234349Z
SUMMARY:Free Breakfast
LOCATION:Eagle's Perch Cafe
URL;VALUE=URI:https://www.frc.edu/studentlife/calendar/3131351/free-breakfa
 st-clone-clone-clone-clone
DTSTART:20220315T153000Z
DTEND:20220315T173000Z
END:VEVENT
END:VCALENDAR
