BEGIN:VCALENDAR
VERSION:2.0
PRODID:SchoolNow
CALSCALE:GREGORIAN
BEGIN:VEVENT
UID:98401784-9fcb-11ec-9357-0a74915ddafd
DTSTAMP:20220322T232128Z
SUMMARY:March Madness / 3v3 FRC Basketball Tournament
LOCATION:GYM
URL;VALUE=URI:https://www.frc.edu/studentlife/calendar/3128647/asfrc-3-on-3
 -basketball-tournament
DTSTART:20220323T010000Z
DTEND:20220323T030000Z
ATTACH;FILENAME=March Madness 3v3.jpg;FMTTYPE=image/jpeg:https://campussuit
 e-storage.s3.amazonaws.com/prod/1558523/0672826e-a84b-11e7-9779-0ae3e1d978
 3c/2386358/be744666-a0a0-11ec-b561-02b67130b4e3/file/March Madness 3v3.jpg
END:VEVENT
END:VCALENDAR
