BEGIN:VCALENDAR
VERSION:2.0
PRODID:SchoolNow
CALSCALE:GREGORIAN
BEGIN:VEVENT
UID:29bf3bf6-9e3a-11ec-a3f5-02f864bf58ad
DTSTAMP:20220310T175340Z
SUMMARY:Women's History Month Canvas
LOCATION:Located around campus
URL;VALUE=URI:https://www.frc.edu/studentlife/calendar/3126413/womens-histo
 ry-month-canvas
DTSTART:20220309T170000Z
DTEND:20220401T160000Z
ATTACH;FILENAME=WHM FLYER.pdf;FMTTYPE=application/pdf:https://campussuite-s
 torage.s3.amazonaws.com/prod/1558523/0672826e-a84b-11e7-9779-0ae3e1d9783c/
 2384572/1c149532-9e3a-11ec-8352-0a6bcde30b9b/file/WHM FLYER.pdf
END:VEVENT
END:VCALENDAR
