BEGIN:VCALENDAR
VERSION:2.0
PRODID:SchoolNow
CALSCALE:GREGORIAN
BEGIN:VEVENT
UID:66218e8c-9b29-11ec-981e-0233ee24fad3
DTSTAMP:20220303T193745Z
SUMMARY:Free Breakfast
LOCATION:Eagle's Perch Cafe
URL;VALUE=URI:https://www.frc.edu/studentlife/calendar/3123541/free-breakfa
 st-clone-clone-clone
DTSTART:20220308T163000Z
DTEND:20220308T183000Z
END:VEVENT
END:VCALENDAR
