BEGIN:VCALENDAR
VERSION:2.0
PRODID:SchoolNow
CALSCALE:GREGORIAN
BEGIN:VEVENT
UID:c90e41ba-9b25-11ec-83dc-0e9d5a444c19
DTSTAMP:20220303T191228Z
SUMMARY:"Black/Womyn"
URL;VALUE=URI:https://www.frc.edu/studentlife/calendar/3123268/black-womyn
DTSTART:20220309T000000Z
DTEND:20220309T020000Z
ATTACH;FILENAME=Black Womyn Flyer (1).pdf.jpg;FMTTYPE=image/jpeg:https://ca
 mpussuite-storage.s3.amazonaws.com/prod/1558523/0672826e-a84b-11e7-9779-0a
 e3e1d9783c/2383187/387456bc-9b25-11ec-a502-02f864bf58ad/file/Black Womyn F
 lyer (1).pdf.jpg
END:VEVENT
END:VCALENDAR
