BEGIN:VCALENDAR
VERSION:2.0
PRODID:SchoolNow
CALSCALE:GREGORIAN
BEGIN:VEVENT
UID:f358324a-98f1-11ec-b653-0243d2474263
DTSTAMP:20220228T235547Z
SUMMARY:CalFresh Scavenger Hunt
URL;VALUE=URI:https://www.frc.edu/studentlife/calendar/3119767/calfresh-sca
 venger-hunt
DTSTART:20220308T160000Z
DTEND:20220310T000000Z
ATTACH;FILENAME=CalFresh Burrito Bowl Scavenger Hunt_FINAL.pdf;FMTTYPE=appl
 ication/pdf:https://campussuite-storage.s3.amazonaws.com/prod/1558523/0672
 826e-a84b-11e7-9779-0ae3e1d9783c/2380623/2f17f26c-9694-11ec-bedf-0eccaa068
 2cd/file/CalFresh Burrito Bowl Scavenger Hunt_FINAL.pdf
END:VEVENT
END:VCALENDAR
