BEGIN:VCALENDAR
VERSION:2.0
PRODID:SchoolNow
CALSCALE:GREGORIAN
BEGIN:VEVENT
UID:9345cf42-9028-11ec-84bf-0e07ff07e5f3
DTSTAMP:20220302T164750Z
SUMMARY:ASFRC Olympic Kahoot Game!
LOCATION:Zoom
URL;VALUE=URI:https://www.frc.edu/studentlife/calendar/3107934/asfrc-olympi
 c-kahoot
DTSTART:20220303T010000Z
DTEND:20220303T020000Z
ATTACH;FILENAME=kahoot final.pdf;FMTTYPE=application/pdf:https://campussuit
 e-storage.s3.amazonaws.com/prod/1558523/0672826e-a84b-11e7-9779-0ae3e1d978
 3c/2382628/7c5c4e58-9a48-11ec-975c-0afcddde3cd5/file/kahoot final.pdf
END:VEVENT
END:VCALENDAR
