BEGIN:VCALENDAR
VERSION:2.0
PRODID:SchoolNow
CALSCALE:GREGORIAN
BEGIN:VEVENT
UID:aa350b2a-9026-11ec-8f78-0e244427ce7b
DTSTAMP:20220217T192028Z
SUMMARY:Mardi Gras Lunch
LOCATION:The Eagle's Perch
URL;VALUE=URI:https://www.frc.edu/studentlife/calendar/3107923/mardi-gras-l
 unch
DTSTART:20220301T190000Z
DTEND:20220301T210000Z
END:VEVENT
END:VCALENDAR
