BEGIN:VCALENDAR
VERSION:2.0
PRODID:SchoolNow
CALSCALE:GREGORIAN
BEGIN:VEVENT
UID:57fc55a2-8919-11ec-84f1-0e44eb2bda1b
DTSTAMP:20220208T195728Z
SUMMARY:Men & Womens Basketball vs Butte College (Sophomore Night)
URL;VALUE=URI:https://www.frc.edu/studentlife/calendar/3096186/men-womens-b
 asketball-vs-butte-college-sophomore-night
DTSTART:20220217T010000Z
DTEND:20220217T020000Z
END:VEVENT
END:VCALENDAR
