BEGIN:VCALENDAR
VERSION:2.0
PRODID:SchoolNow
CALSCALE:GREGORIAN
BEGIN:VEVENT
UID:a1d70616-8916-11ec-85b5-0eb52a1725a7
DTSTAMP:20220310T182812Z
SUMMARY:St. Patricks Day Lunch- FREE for students & staff
LOCATION:The Perch
URL;VALUE=URI:https://www.frc.edu/studentlife/calendar/3096184/st-patricks-
 day-lunch-free-for-students-staff
DTSTART:20220317T180000Z
DTEND:20220317T200000Z
ATTACH;FILENAME=St Patrick's Day Lunch 2022.pdf;FMTTYPE=application/pdf:htt
 ps://campussuite-storage.s3.amazonaws.com/prod/1558523/0672826e-a84b-11e7-
 9779-0ae3e1d9783c/2386353/c6848d58-a09f-11ec-aa48-02b67130b4e3/file/St Pat
 rick's Day Lunch 2022.pdf
END:VEVENT
END:VCALENDAR
