BEGIN:VCALENDAR
VERSION:2.0
PRODID:SchoolNow
CALSCALE:GREGORIAN
BEGIN:VEVENT
UID:127349c6-06df-11f1-8752-0e7efa62387f
DTSTAMP:20260211T001738Z
SUMMARY:Career Pathways Workshop
LOCATION:SCI 1002 (classroom)
URL;VALUE=URI:https://www.frc.edu/student-success-programs/calendar/8852835
 /career-pathways-workshop
DTSTART:20260211T200000Z
DTEND:20260211T213000Z
END:VEVENT
END:VCALENDAR
