BEGIN:VCALENDAR
VERSION:2.0
PRODID:SchoolNow
CALSCALE:GREGORIAN
BEGIN:VEVENT
UID:506ba3d8-ae09-11f0-9919-0a58a9feac02
DTSTAMP:20251020T230734Z
SUMMARY:Resume Writing Workshop
LOCATION:SSS TRiO Office
URL;VALUE=URI:https://www.frc.edu/student-success-programs/calendar/8737164
 /pathway-u-workshop-clone
DTSTART:20251029T190000Z
DTEND:20251029T200000Z
END:VEVENT
END:VCALENDAR
