BEGIN:VCALENDAR
VERSION:2.0
PRODID:SchoolNow
CALSCALE:GREGORIAN
BEGIN:VEVENT
UID:67f22d36-a910-11f0-901b-0afff0a091fb
DTSTAMP:20251014T151357Z
SUMMARY:Undocumented Student Success Week: Continue the Dream
LOCATION:Zoom Webinar
URL;VALUE=URI:https://www.frc.edu/student-success-programs/calendar/8721460
 /undocumented-student-success-week-continue-the-dream
DTSTART:20251017T003000Z
DTEND:20251017T013000Z
END:VEVENT
END:VCALENDAR
