BEGIN:VCALENDAR
VERSION:2.0
PRODID:SchoolNow
CALSCALE:GREGORIAN
BEGIN:VEVENT
UID:5f7935dc-a910-11f0-a483-0a58a9feac02
DTSTAMP:20251014T151343Z
SUMMARY:Undocumented Student Success Week: Keeping the Promise
LOCATION:Zoom Webinar
URL;VALUE=URI:https://www.frc.edu/student-success-programs/calendar/8721459
 /undocumented-student-success-week-keeping-the-promise
DTSTART:20251016T003000Z
DTEND:20251016T013000Z
END:VEVENT
END:VCALENDAR
