BEGIN:VCALENDAR
VERSION:2.0
PRODID:SchoolNow
CALSCALE:GREGORIAN
BEGIN:VEVENT
UID:2a12c594-a397-11f0-b881-023d67bb3955
DTSTAMP:20251007T160340Z
SUMMARY:Pathway U Workshop
LOCATION:SS TRiO Office
URL;VALUE=URI:https://www.frc.edu/student-success-programs/calendar/8702872
 /pathway-u-workshop
DTSTART:20251015T190000Z
DTEND:20251015T200000Z
END:VEVENT
END:VCALENDAR
