BEGIN:VCALENDAR
VERSION:2.0
PRODID:SchoolNow
CALSCALE:GREGORIAN
BEGIN:VEVENT
UID:72ba6482-9afa-11f0-8dfc-0e1d0a794d81
DTSTAMP:20251008T171816Z
SUMMARY:Undocumented Student Success Week: Info Booth
LOCATION:Upper Green by the Perch
URL;VALUE=URI:https://www.frc.edu/student-success-programs/calendar/8668001
 /undocumented-student-success-week
DTSTART:20251014T170000Z
DTEND:20251014T180000Z
END:VEVENT
END:VCALENDAR
