BEGIN:VCALENDAR
VERSION:2.0
PRODID:SchoolNow
CALSCALE:GREGORIAN
BEGIN:VEVENT
UID:ee3bbff2-13dc-11f0-a1ea-0e3eb7b0117f
DTSTAMP:20250507T184249Z
SUMMARY:Stress Less for Finals Week
LOCATION:Student Wellness and Success Center
URL;VALUE=URI:https://www.frc.edu/student-success-programs/calendar/7872043
 /stress-less-for-finals-week-clone
DTSTART:20250512T153000Z
DTEND:20250522T233000Z
END:VEVENT
END:VCALENDAR
