BEGIN:VCALENDAR
VERSION:2.0
PRODID:SchoolNow
CALSCALE:GREGORIAN
BEGIN:VEVENT
UID:4ab929a4-0e88-11f0-9664-0a58a9feac02
DTSTAMP:20250404T193128Z
SUMMARY:Cultural Fair and Farmers Market
LOCATION:TBD
URL;VALUE=URI:https://www.frc.edu/student-success-programs/calendar/7820671
 /cultural-fair
DTSTART:20250506T180000Z
DTEND:20250506T200000Z
END:VEVENT
END:VCALENDAR
