BEGIN:VCALENDAR
VERSION:2.0
PRODID:SchoolNow
CALSCALE:GREGORIAN
BEGIN:VEVENT
UID:ba8821d8-f603-11ef-981b-0a58a9feac02
DTSTAMP:20250228T185400Z
SUMMARY:UndocuScholars LLC Guest Speakers
LOCATION:Gallery and Room 201
URL;VALUE=URI:https://www.frc.edu/student-success-programs/calendar/7570061
 /undocuscholars-llc-guest-speakers
DTSTART:20250408T170000Z
DTEND:20250408T183000Z
END:VEVENT
END:VCALENDAR
