BEGIN:VCALENDAR
VERSION:2.0
PRODID:SchoolNow
CALSCALE:GREGORIAN
BEGIN:VEVENT
UID:7e4221d8-f2cf-11ef-b890-02c9a6e036bf
DTSTAMP:20250224T165146Z
SUMMARY:Trump Executive Orders on Immigration: What You Need to Know to Nav
 igate the Changes and Defend Your Rights
LOCATION:ZOOM
URL;VALUE=URI:https://www.frc.edu/student-success-programs/calendar/7538675
 /trump-executive-orders-on-immigration-what-you-need-to-know-to-navigate-t
 he-changes-and-defend-your-rights
DTSTART:20250226T193000Z
DTEND:20250226T210000Z
END:VEVENT
END:VCALENDAR
