BEGIN:VCALENDAR
VERSION:2.0
PRODID:SchoolNow
CALSCALE:GREGORIAN
BEGIN:VEVENT
UID:fbfd91ec-a8fc-11ef-ac31-0e3ee6bc6817
DTSTAMP:20241122T192833Z
SUMMARY:Free Breakfast Burritos for Students
LOCATION:Eagles Perch
URL;VALUE=URI:https://www.frc.edu/student-success-programs/calendar/7064028
 /free-breakfast-burritos-for-students-clone
DTSTART:20241210T160000Z
DTEND:20241210T180000Z
END:VEVENT
END:VCALENDAR
