BEGIN:VCALENDAR
VERSION:2.0
PRODID:SchoolNow
CALSCALE:GREGORIAN
BEGIN:VEVENT
UID:9f9adf74-a116-11ef-87d9-0ef21fdfeaff
DTSTAMP:20241112T165321Z
SUMMARY:Caring Campus Meeting
LOCATION:Student Lounge
URL;VALUE=URI:https://www.frc.edu/student-success-programs/calendar/7006544
 /caring-campus-meeting-clone
DTSTART:20241114T020000Z
DTEND:20241114T030000Z
END:VEVENT
END:VCALENDAR
